BEGIN:VCALENDAR
VERSION:2.0
PRODID:-//Aandacht voor ouderen Helmond - ECPv6.15.17.1//NONSGML v1.0//EN
CALSCALE:GREGORIAN
METHOD:PUBLISH
X-ORIGINAL-URL:https://aandachtvoorouderenhelmond.nl
X-WR-CALDESC:Evenementen voor Aandacht voor ouderen Helmond
REFRESH-INTERVAL;VALUE=DURATION:PT1H
X-Robots-Tag:noindex
X-PUBLISHED-TTL:PT1H
BEGIN:VTIMEZONE
TZID:Europe/Amsterdam
BEGIN:DAYLIGHT
TZOFFSETFROM:+0100
TZOFFSETTO:+0200
TZNAME:CEST
DTSTART:20190331T010000
END:DAYLIGHT
BEGIN:STANDARD
TZOFFSETFROM:+0200
TZOFFSETTO:+0100
TZNAME:CET
DTSTART:20191027T010000
END:STANDARD
BEGIN:DAYLIGHT
TZOFFSETFROM:+0100
TZOFFSETTO:+0200
TZNAME:CEST
DTSTART:20200329T010000
END:DAYLIGHT
BEGIN:STANDARD
TZOFFSETFROM:+0200
TZOFFSETTO:+0100
TZNAME:CET
DTSTART:20201025T010000
END:STANDARD
BEGIN:DAYLIGHT
TZOFFSETFROM:+0100
TZOFFSETTO:+0200
TZNAME:CEST
DTSTART:20210328T010000
END:DAYLIGHT
BEGIN:STANDARD
TZOFFSETFROM:+0200
TZOFFSETTO:+0100
TZNAME:CET
DTSTART:20211031T010000
END:STANDARD
END:VTIMEZONE
BEGIN:VEVENT
DTSTART;TZID=Europe/Amsterdam:20200209T150000
DTEND;TZID=Europe/Amsterdam:20200209T170000
DTSTAMP:20260421T115645
CREATED:20200120T140715Z
LAST-MODIFIED:20200121T152415Z
UID:10000157-1581260400-1581267600@aandachtvoorouderenhelmond.nl
SUMMARY:Gluren bij de Buren: Stones & Jo
DESCRIPTION:Vanuit liefde voor podiumkunsten tovert Gluren bij de Buren huiskamers om tot tijdelijke podia voor lokaal talent. Op 9 februari worden meer dan 40 huiskamers in Helmond omgetoverd tot podium. Ook veel woonzorglocaties hebben zich aangemeld als huiskamer. Op de site van Gluren bij de buren vindt u het hele programma. \n  \nStones & Jo is een saxofoonkwartet en speelt in woonzorgcentrum De Ameide om 15.00 uur en om 16.00 uur een set.
URL:https://aandachtvoorouderenhelmond.nl/evenement/gluren-bij-de-buren-stones-jo/
LOCATION:Woonzorgcentrum Ameide\, Ameidepark 8
ATTACH;FMTTYPE=image/jpeg:https://aandachtvoorouderenhelmond.nl/wp-content/uploads/2020/01/1567.jpg
END:VEVENT
BEGIN:VEVENT
DTSTART;TZID=Europe/Amsterdam:20200209T120000
DTEND;TZID=Europe/Amsterdam:20200209T170000
DTSTAMP:20260421T115645
CREATED:20200127T102647Z
LAST-MODIFIED:20200127T102647Z
UID:10000162-1581249600-1581267600@aandachtvoorouderenhelmond.nl
SUMMARY:Gluren bij de Buren: Domweg zo mooi
DESCRIPTION:Kom tijdens ‘Gluren bij de buren’ genieten van een heerlijk optreden in intieme setting in Bibliotheek Helmond. Otine van Erp en John van der Sanden spelen de voorstelling ‘Domweg zo mooi’ op zondagmiddag 9 februari. Tijdens de middag treden ze een paar keer op tussen 12.00 en 16.00 uur. Gratis toegang.
URL:https://aandachtvoorouderenhelmond.nl/evenement/gluren-bij-de-buren-domweg-zo-mooi/
LOCATION:Bibliotheek Helmond\, Watermolenwal 11\, Helmond
ATTACH;FMTTYPE=image/jpeg:https://aandachtvoorouderenhelmond.nl/wp-content/uploads/2020/01/IMG_0813-2.jpeg
END:VEVENT
BEGIN:VEVENT
DTSTART;TZID=Europe/Amsterdam:20200209T120000
DTEND;TZID=Europe/Amsterdam:20200209T170000
DTSTAMP:20260421T115645
CREATED:20200120T141905Z
LAST-MODIFIED:20200120T141905Z
UID:10000160-1581249600-1581267600@aandachtvoorouderenhelmond.nl
SUMMARY:Gluren bij de buren: pianoconcert door Olivier
DESCRIPTION:Vanuit liefde voor podiumkunsten tovert Gluren bij de Buren huiskamers om tot tijdelijke podia voor lokaal talent. Op 9 februari worden meer dan 40 huiskamers in Helmond omgetoverd tot podium. Ook veel woonzorglocaties hebben zich aangemeld als huiskamer. Op de site van Gluren bij de buren vindt u het hele programma.
URL:https://aandachtvoorouderenhelmond.nl/evenement/gluren-bij-de-buren-pianoconcert-door-olivier/
LOCATION:Keyserinnedael\, Kanaaldijk N.O. 70\, Helmond
ATTACH;FMTTYPE=image/jpeg:https://aandachtvoorouderenhelmond.nl/wp-content/uploads/2020/01/971.jpg
END:VEVENT
BEGIN:VEVENT
DTSTART;TZID=Europe/Amsterdam:20200209T120000
DTEND;TZID=Europe/Amsterdam:20200209T170000
DTSTAMP:20260421T115645
CREATED:20200120T141521Z
LAST-MODIFIED:20200120T141655Z
UID:10000159-1581249600-1581267600@aandachtvoorouderenhelmond.nl
SUMMARY:Gluren bij de buren: zanggroep Xango
DESCRIPTION:Vanuit liefde voor podiumkunsten tovert Gluren bij de Buren huiskamers om tot tijdelijke podia voor lokaal talent. Op 9 februari worden meer dan 40 huiskamers in Helmond omgetoverd tot podium. Ook veel woonzorglocaties hebben zich aangemeld als huiskamer. Op de site van Gluren bij de buren vindt u het hele programma.
URL:https://aandachtvoorouderenhelmond.nl/evenement/gluren-bij-de-buren-zanggroep-xango/
LOCATION:Woonzorgcentrum Alphonsus\, Hoofdstraat 176\, Helmond
ATTACH;FMTTYPE=image/jpeg:https://aandachtvoorouderenhelmond.nl/wp-content/uploads/2020/01/313.jpg
END:VEVENT
BEGIN:VEVENT
DTSTART;TZID=Europe/Amsterdam:20200209T120000
DTEND;TZID=Europe/Amsterdam:20200209T170000
DTSTAMP:20260421T115645
CREATED:20200120T141009Z
LAST-MODIFIED:20200120T141009Z
UID:10000158-1581249600-1581267600@aandachtvoorouderenhelmond.nl
SUMMARY:Gluren bij de buren: talenten Kunstkwartier
DESCRIPTION:Vanuit liefde voor podiumkunsten tovert Gluren bij de Buren huiskamers om tot tijdelijke podia voor lokaal talent. Op 9 februari worden meer dan 40 huiskamers in Helmond omgetoverd tot podium. Ook veel woonzorglocaties hebben zich aangemeld als huiskamer. Op de site van Gluren bij de buren vindt u het hele programma. \nDe talenten van het Kunstkwartier spelen in de Pannehoeve\, Jan van Goyenlaan 1
URL:https://aandachtvoorouderenhelmond.nl/evenement/gluren-bij-de-buren-talenten-kunstkwartier/
LOCATION:Pannehoeve\, Jan van Goyenlaan 1\, Helmond
ATTACH;FMTTYPE=image/jpeg:https://aandachtvoorouderenhelmond.nl/wp-content/uploads/2020/01/1568.jpg
END:VEVENT
END:VCALENDAR