BEGIN:VCALENDAR
VERSION:2.0
PRODID:-//Aandacht voor ouderen Helmond - ECPv6.15.17.1//NONSGML v1.0//EN
CALSCALE:GREGORIAN
METHOD:PUBLISH
X-ORIGINAL-URL:https://aandachtvoorouderenhelmond.nl
X-WR-CALDESC:Evenementen voor Aandacht voor ouderen Helmond
REFRESH-INTERVAL;VALUE=DURATION:PT1H
X-Robots-Tag:noindex
X-PUBLISHED-TTL:PT1H
BEGIN:VTIMEZONE
TZID:Europe/Amsterdam
BEGIN:DAYLIGHT
TZOFFSETFROM:+0100
TZOFFSETTO:+0200
TZNAME:CEST
DTSTART:20240331T010000
END:DAYLIGHT
BEGIN:STANDARD
TZOFFSETFROM:+0200
TZOFFSETTO:+0100
TZNAME:CET
DTSTART:20241027T010000
END:STANDARD
BEGIN:DAYLIGHT
TZOFFSETFROM:+0100
TZOFFSETTO:+0200
TZNAME:CEST
DTSTART:20250330T010000
END:DAYLIGHT
BEGIN:STANDARD
TZOFFSETFROM:+0200
TZOFFSETTO:+0100
TZNAME:CET
DTSTART:20251026T010000
END:STANDARD
BEGIN:DAYLIGHT
TZOFFSETFROM:+0100
TZOFFSETTO:+0200
TZNAME:CEST
DTSTART:20260329T010000
END:DAYLIGHT
BEGIN:STANDARD
TZOFFSETFROM:+0200
TZOFFSETTO:+0100
TZNAME:CET
DTSTART:20261025T010000
END:STANDARD
END:VTIMEZONE
BEGIN:VEVENT
DTSTART;TZID=Europe/Amsterdam:20250523T193000
DTEND;TZID=Europe/Amsterdam:20250523T220000
DTSTAMP:20260421T132302
CREATED:20250318T111218Z
LAST-MODIFIED:20250414T130406Z
UID:10000208-1748028600-1748037600@aandachtvoorouderenhelmond.nl
SUMMARY:Plenaire bijeenkomst Brandevoort
DESCRIPTION:Graag nodigen wij u uit voor de: \nPlenaire bijeenkomst deelnemers Netwerkcirkels\nDatum: Vrijdag 23 mei 2025 \nLocatie: Wijkhuis ’t BrandPunt\, Biezenlaan 29\, 5708 ZD Helmond – Brandevoort \nZaal open: 19:00 uur           Start avond: 19:30 uur \nGastspreker: Drs. Jeroen Lammers (Cardioloog Elkerliek ziekenhuis)\nDrs. Lammers verteld o.a. wat de juiste voeding met je lichaam kan doen. \nDeze avond zijn uiteraard alle Brandevoorters en andere geïnteresseerden welkom.\nWel even aanmelden via brandevoortoogvoorelkaar@gmail.com i.v.m. het klaarzetten van de stoelen.
URL:https://aandachtvoorouderenhelmond.nl/evenement/uitnodiging-plenaire-bijeenkomst-23-05-2025/
LOCATION:’t Brandpunt\, Biezenlaan 29\, Helmond\, 5708 ZD\, Nederland
ATTACH;FMTTYPE=image/png:https://aandachtvoorouderenhelmond.nl/wp-content/uploads/2025/02/Logo_Brandevoort_Oog_voor_elkaar_500x500.png
ORGANIZER;CN="Brandevoort Oog voor elkaar":MAILTO:brandevoortoogvoorelkaar@gmail.com
END:VEVENT
END:VCALENDAR