BEGIN:VCALENDAR
VERSION:2.0
PRODID:-//Aandacht voor ouderen Helmond - ECPv6.15.17.1//NONSGML v1.0//EN
CALSCALE:GREGORIAN
METHOD:PUBLISH
X-WR-CALNAME:Aandacht voor ouderen Helmond
X-ORIGINAL-URL:https://aandachtvoorouderenhelmond.nl
X-WR-CALDESC:Evenementen voor Aandacht voor ouderen Helmond
REFRESH-INTERVAL;VALUE=DURATION:PT1H
X-Robots-Tag:noindex
X-PUBLISHED-TTL:PT1H
BEGIN:VTIMEZONE
TZID:Europe/Amsterdam
BEGIN:DAYLIGHT
TZOFFSETFROM:+0100
TZOFFSETTO:+0200
TZNAME:CEST
DTSTART:20180325T010000
END:DAYLIGHT
BEGIN:STANDARD
TZOFFSETFROM:+0200
TZOFFSETTO:+0100
TZNAME:CET
DTSTART:20181028T010000
END:STANDARD
BEGIN:DAYLIGHT
TZOFFSETFROM:+0100
TZOFFSETTO:+0200
TZNAME:CEST
DTSTART:20190331T010000
END:DAYLIGHT
BEGIN:STANDARD
TZOFFSETFROM:+0200
TZOFFSETTO:+0100
TZNAME:CET
DTSTART:20191027T010000
END:STANDARD
BEGIN:DAYLIGHT
TZOFFSETFROM:+0100
TZOFFSETTO:+0200
TZNAME:CEST
DTSTART:20200329T010000
END:DAYLIGHT
BEGIN:STANDARD
TZOFFSETFROM:+0200
TZOFFSETTO:+0100
TZNAME:CET
DTSTART:20201025T010000
END:STANDARD
BEGIN:DAYLIGHT
TZOFFSETFROM:+0100
TZOFFSETTO:+0200
TZNAME:CEST
DTSTART:20210328T010000
END:DAYLIGHT
BEGIN:STANDARD
TZOFFSETFROM:+0200
TZOFFSETTO:+0100
TZNAME:CET
DTSTART:20211031T010000
END:STANDARD
END:VTIMEZONE
BEGIN:VEVENT
DTSTART;TZID=Europe/Amsterdam:20200209T150000
DTEND;TZID=Europe/Amsterdam:20200209T170000
DTSTAMP:20260421T113900
CREATED:20200120T140715Z
LAST-MODIFIED:20200121T152415Z
UID:10000157-1581260400-1581267600@aandachtvoorouderenhelmond.nl
SUMMARY:Gluren bij de Buren: Stones & Jo
DESCRIPTION:Vanuit liefde voor podiumkunsten tovert Gluren bij de Buren huiskamers om tot tijdelijke podia voor lokaal talent. Op 9 februari worden meer dan 40 huiskamers in Helmond omgetoverd tot podium. Ook veel woonzorglocaties hebben zich aangemeld als huiskamer. Op de site van Gluren bij de buren vindt u het hele programma. \n  \nStones & Jo is een saxofoonkwartet en speelt in woonzorgcentrum De Ameide om 15.00 uur en om 16.00 uur een set.
URL:https://aandachtvoorouderenhelmond.nl/evenement/gluren-bij-de-buren-stones-jo/
LOCATION:Woonzorgcentrum Ameide\, Ameidepark 8
ATTACH;FMTTYPE=image/jpeg:https://aandachtvoorouderenhelmond.nl/wp-content/uploads/2020/01/1567.jpg
END:VEVENT
BEGIN:VEVENT
DTSTART;TZID=Europe/Amsterdam:20191030T080000
DTEND;TZID=Europe/Amsterdam:20191212T170000
DTSTAMP:20260421T113900
CREATED:20190908T203315Z
LAST-MODIFIED:20190908T204939Z
UID:10000127-1572422400-1576170000@aandachtvoorouderenhelmond.nl
SUMMARY:Huiskameratelier
DESCRIPTION:Het huiskameratelier biedt de ideale combinatie van gezellig samenzijn en nieuwe dingen leren. Samen met een vakbekwame docent\, werkt u in zes weken naar mooie resultaten. \nEind oktober start er weer een nieuw huiskameratelier: \nTekenfilm maken \nEen tekenfilm bestaat uit veel losse beelden die je achter elkaar plakt. Samen met onze docent Christa Alaert gaat u in de techniek naar keuze\, (tekenen\, schilderen\, klei etc.) een korte tekenfilm maken. U werkt hierbij in groepjes. \nInformatiebijeenkomst : Woensdag 23 oktober van 14.30 tot 15.30 in de Ameide. \nStart huiskameratelier: woensdag 30 oktober van 14.30 tot 16.30 \nAantal bijeenkomsten: 6 (inclusief excursie naar De Cacaofabriek war we samen inspiratie op gaan doen) \nTotale kosten huiskameratelier:  21\,-  inclusief koffie\, thee\, materiaal en excursie. Aanmelden kan door te bellen naar Kunstkwartier of een mail te sturen naar Annet Nooijen a.nooijen@kunst-kwartier.nl 
URL:https://aandachtvoorouderenhelmond.nl/evenement/huiskameratelier-2/
LOCATION:Woonzorgcentrum Ameide\, Ameidepark 8
ATTACH;FMTTYPE=image/png:https://aandachtvoorouderenhelmond.nl/wp-content/uploads/2019/04/crea.png
ORGANIZER;CN="Kunstkwartier":MAILTO:a.nooijen@kunst-kwartier.nl
END:VEVENT
BEGIN:VEVENT
DTSTART;TZID=Europe/Amsterdam:20190612T143000
DTEND;TZID=Europe/Amsterdam:20190717T163000
DTSTAMP:20260421T113900
CREATED:20190606T122813Z
LAST-MODIFIED:20190606T174844Z
UID:10000119-1560349800-1563381000@aandachtvoorouderenhelmond.nl
SUMMARY:Creatief aan de slag in het huiskameratelier
DESCRIPTION:Heb je een herinnering waarvan je wenste dat je er een foto van had? Tegenwoordig maken mensen van ieder moment een foto\, dat was vroeger wel anders. Een foto van vroeger kunnen we niet meer maken. De herinnering kunnen we wel samen verbeelden! Onder begeleiding van kunstdocent Annick Ypma ga je met verschillende technieken aan de slag om je eigen herinnering te verbeelden. \nStart 12 juni – 17 juli\n6 sessies op woensdagmiddag van 14.30 tot 16.30\nLocatie: in het restaurant van de Ameideflat \nKosten: 21 euro voor 6 bijeenkomsten\, inclusief koffie thee en materiaal \nAanmelden via email: naar A.Nooijen@kunst-kwartier.nl of even bellen naar Kunstkwartier 0492-542445
URL:https://aandachtvoorouderenhelmond.nl/evenement/creatief-aan-de-slag-in-het-huiskameratelier/
LOCATION:Woonzorgcentrum Ameide\, Ameidepark 8
ATTACH;FMTTYPE=image/jpeg:https://aandachtvoorouderenhelmond.nl/wp-content/uploads/2019/02/Slider-LLC-creatief.jpg
END:VEVENT
END:VCALENDAR