BEGIN:VCALENDAR
VERSION:2.0
PRODID:-//Aandacht voor ouderen Helmond - ECPv6.15.17.1//NONSGML v1.0//EN
CALSCALE:GREGORIAN
METHOD:PUBLISH
X-ORIGINAL-URL:https://aandachtvoorouderenhelmond.nl
X-WR-CALDESC:Evenementen voor Aandacht voor ouderen Helmond
REFRESH-INTERVAL;VALUE=DURATION:PT1H
X-Robots-Tag:noindex
X-PUBLISHED-TTL:PT1H
BEGIN:VTIMEZONE
TZID:Europe/Amsterdam
BEGIN:DAYLIGHT
TZOFFSETFROM:+0100
TZOFFSETTO:+0200
TZNAME:CEST
DTSTART:20180325T010000
END:DAYLIGHT
BEGIN:STANDARD
TZOFFSETFROM:+0200
TZOFFSETTO:+0100
TZNAME:CET
DTSTART:20181028T010000
END:STANDARD
BEGIN:DAYLIGHT
TZOFFSETFROM:+0100
TZOFFSETTO:+0200
TZNAME:CEST
DTSTART:20190331T010000
END:DAYLIGHT
BEGIN:STANDARD
TZOFFSETFROM:+0200
TZOFFSETTO:+0100
TZNAME:CET
DTSTART:20191027T010000
END:STANDARD
BEGIN:DAYLIGHT
TZOFFSETFROM:+0100
TZOFFSETTO:+0200
TZNAME:CEST
DTSTART:20200329T010000
END:DAYLIGHT
BEGIN:STANDARD
TZOFFSETFROM:+0200
TZOFFSETTO:+0100
TZNAME:CET
DTSTART:20201025T010000
END:STANDARD
BEGIN:DAYLIGHT
TZOFFSETFROM:+0100
TZOFFSETTO:+0200
TZNAME:CEST
DTSTART:20210328T010000
END:DAYLIGHT
BEGIN:STANDARD
TZOFFSETFROM:+0200
TZOFFSETTO:+0100
TZNAME:CET
DTSTART:20211031T010000
END:STANDARD
END:VTIMEZONE
BEGIN:VEVENT
DTSTART;TZID=Europe/Amsterdam:20200209T120000
DTEND;TZID=Europe/Amsterdam:20200209T170000
DTSTAMP:20260419T145224
CREATED:20200120T141521Z
LAST-MODIFIED:20200120T141655Z
UID:10000159-1581249600-1581267600@aandachtvoorouderenhelmond.nl
SUMMARY:Gluren bij de buren: zanggroep Xango
DESCRIPTION:Vanuit liefde voor podiumkunsten tovert Gluren bij de Buren huiskamers om tot tijdelijke podia voor lokaal talent. Op 9 februari worden meer dan 40 huiskamers in Helmond omgetoverd tot podium. Ook veel woonzorglocaties hebben zich aangemeld als huiskamer. Op de site van Gluren bij de buren vindt u het hele programma.
URL:https://aandachtvoorouderenhelmond.nl/evenement/gluren-bij-de-buren-zanggroep-xango/
LOCATION:Woonzorgcentrum Alphonsus\, Hoofdstraat 176\, Helmond
ATTACH;FMTTYPE=image/jpeg:https://aandachtvoorouderenhelmond.nl/wp-content/uploads/2020/01/313.jpg
END:VEVENT
BEGIN:VEVENT
DTSTART;TZID=Europe/Amsterdam:20190703T093000
DTEND;TZID=Europe/Amsterdam:20190703T120000
DTSTAMP:20260419T145224
CREATED:20190606T122104Z
LAST-MODIFIED:20190613T094251Z
UID:10000118-1562146200-1562155200@aandachtvoorouderenhelmond.nl
SUMMARY:Samen zingen met plezier!
DESCRIPTION:Ontdek wat je allemaal met je stem kan doen!\nIedereen is welkom. Het maakt niet uit of je wel of niet vaker hebt gezongen. Samen zingen en bewegen is fijn\, het geeft energie en plezier! Kom je ook? \nDe workshop wordt georganiseerd door het Kunstkwartier en is onder begeleiding van een zangdocent.\nKosten zijn 3\,50 per persoon inclusief koffie/ thee. \nAanmelden graag via de LEV groep Zomerweken\, klik hier. Of stuur een mail naar asck@levgroep.nl
URL:https://aandachtvoorouderenhelmond.nl/evenement/samen-zingen-met-plezier/
LOCATION:Woonzorgcentrum Alphonsus\, Hoofdstraat 176\, Helmond
ATTACH;FMTTYPE=image/jpeg:https://aandachtvoorouderenhelmond.nl/wp-content/uploads/2019/06/shutterstock_451314649-1.jpg
END:VEVENT
BEGIN:VEVENT
DTSTART;TZID=Europe/Amsterdam:20190624T093000
DTEND;TZID=Europe/Amsterdam:20190624T120000
DTSTAMP:20260419T145224
CREATED:20190605T215209Z
LAST-MODIFIED:20190613T094447Z
UID:10000114-1561368600-1561377600@aandachtvoorouderenhelmond.nl
SUMMARY:Workshop verhalen vertellen
DESCRIPTION:Tijdens deze workshop wordt je door theateropdrachten uitgenodigd samen verhalen te bedenken en te vertellen. Een leuke activiteit waarbij je niets nodig hebt\, alleen je fantasie! \nDeze workshop wordt verzorgd door Kunstkwartier.\nKosten 3\,50 inclusief koffie/ thee. \nAanmelden graag via de LEV groep Zomerweken\, klik hier. Of stuur een mail naar asck@levgroep.nl
URL:https://aandachtvoorouderenhelmond.nl/evenement/workshop-verhalen-vertellen/
LOCATION:Woonzorgcentrum Alphonsus\, Hoofdstraat 176\, Helmond
ATTACH;FMTTYPE=image/jpeg:https://aandachtvoorouderenhelmond.nl/wp-content/uploads/2019/05/Cacaofabriek-Lang-Leve-Cultuur-Hart-voor-ouderen-16-05-2019-Fotograaf-Dave-van-Hout-6339.jpg
END:VEVENT
END:VCALENDAR