BEGIN:VCALENDAR
VERSION:2.0
PRODID:-//Aandacht voor ouderen Helmond - ECPv6.15.17.1//NONSGML v1.0//EN
CALSCALE:GREGORIAN
METHOD:PUBLISH
X-WR-CALNAME:Aandacht voor ouderen Helmond
X-ORIGINAL-URL:https://aandachtvoorouderenhelmond.nl
X-WR-CALDESC:Evenementen voor Aandacht voor ouderen Helmond
REFRESH-INTERVAL;VALUE=DURATION:PT1H
X-Robots-Tag:noindex
X-PUBLISHED-TTL:PT1H
BEGIN:VTIMEZONE
TZID:Europe/Amsterdam
BEGIN:DAYLIGHT
TZOFFSETFROM:+0100
TZOFFSETTO:+0200
TZNAME:CEST
DTSTART:20180325T010000
END:DAYLIGHT
BEGIN:STANDARD
TZOFFSETFROM:+0200
TZOFFSETTO:+0100
TZNAME:CET
DTSTART:20181028T010000
END:STANDARD
BEGIN:DAYLIGHT
TZOFFSETFROM:+0100
TZOFFSETTO:+0200
TZNAME:CEST
DTSTART:20190331T010000
END:DAYLIGHT
BEGIN:STANDARD
TZOFFSETFROM:+0200
TZOFFSETTO:+0100
TZNAME:CET
DTSTART:20191027T010000
END:STANDARD
BEGIN:DAYLIGHT
TZOFFSETFROM:+0100
TZOFFSETTO:+0200
TZNAME:CEST
DTSTART:20200329T010000
END:DAYLIGHT
BEGIN:STANDARD
TZOFFSETFROM:+0200
TZOFFSETTO:+0100
TZNAME:CET
DTSTART:20201025T010000
END:STANDARD
END:VTIMEZONE
BEGIN:VEVENT
DTSTART;TZID=Europe/Amsterdam:20190816T133000
DTEND;TZID=Europe/Amsterdam:20190816T163000
DTSTAMP:20260421T144059
CREATED:20190606T173037Z
LAST-MODIFIED:20190613T093434Z
UID:10000125-1565962200-1565973000@aandachtvoorouderenhelmond.nl
SUMMARY:Slotfeest Zomerweken
DESCRIPTION:Heb je deelgenomen aan een of meerdere activiteiten deze zomer? Dan ben je van harte welkom op het slotfeest! Deze feestelijke middag staat in het teken van gezelligheid en je kunt elkaar weer ontmoeten. Er wordt gezorgd voor hapjes\, muziek en verassende elementen. De toegang is gratis. Consumpties zijn voor eigen rekening. \nHet slotfeest wordt mogelijk gemaakt door de LEV groep en Lang Leve Cultuur. \nAanmelden graag direct via de LEV groep\, klik hier. Of stuur een mail naar asck@levgroep.nl
URL:https://aandachtvoorouderenhelmond.nl/evenement/slotfeest-zomerweken-2/
LOCATION:Westwijzer\, Cortenbachstraat 70\, Helmond
ATTACH;FMTTYPE=image/png:https://aandachtvoorouderenhelmond.nl/wp-content/uploads/2019/04/Schermafbeelding-2019-06-06-om-17.35.31.png
END:VEVENT
END:VCALENDAR