BEGIN:VCALENDAR
VERSION:2.0
PRODID:-//Aandacht voor ouderen Helmond - ECPv6.15.17.1//NONSGML v1.0//EN
CALSCALE:GREGORIAN
METHOD:PUBLISH
X-WR-CALNAME:Aandacht voor ouderen Helmond
X-ORIGINAL-URL:https://aandachtvoorouderenhelmond.nl
X-WR-CALDESC:Evenementen voor Aandacht voor ouderen Helmond
REFRESH-INTERVAL;VALUE=DURATION:PT1H
X-Robots-Tag:noindex
X-PUBLISHED-TTL:PT1H
BEGIN:VTIMEZONE
TZID:Europe/Amsterdam
BEGIN:DAYLIGHT
TZOFFSETFROM:+0100
TZOFFSETTO:+0200
TZNAME:CEST
DTSTART:20180325T010000
END:DAYLIGHT
BEGIN:STANDARD
TZOFFSETFROM:+0200
TZOFFSETTO:+0100
TZNAME:CET
DTSTART:20181028T010000
END:STANDARD
BEGIN:DAYLIGHT
TZOFFSETFROM:+0100
TZOFFSETTO:+0200
TZNAME:CEST
DTSTART:20190331T010000
END:DAYLIGHT
BEGIN:STANDARD
TZOFFSETFROM:+0200
TZOFFSETTO:+0100
TZNAME:CET
DTSTART:20191027T010000
END:STANDARD
BEGIN:DAYLIGHT
TZOFFSETFROM:+0100
TZOFFSETTO:+0200
TZNAME:CEST
DTSTART:20200329T010000
END:DAYLIGHT
BEGIN:STANDARD
TZOFFSETFROM:+0200
TZOFFSETTO:+0100
TZNAME:CET
DTSTART:20201025T010000
END:STANDARD
END:VTIMEZONE
BEGIN:VEVENT
DTSTART;TZID=Europe/Amsterdam:20190328T140000
DTEND;TZID=Europe/Amsterdam:20190328T160000
DTSTAMP:20260421T162630
CREATED:20190211T101139Z
LAST-MODIFIED:20190318T174757Z
UID:10000107-1553781600-1553788800@aandachtvoorouderenhelmond.nl
SUMMARY:Boekenbal
DESCRIPTION:De boekenweek start traditiegetrouw met het boekenbal. Dit jaar gaan we voor het eerst ook in Helmond “aan de zwier”. In de Gaviolizaal onder de warme klanken van de draaiorgels. Wim Daniëls is te gast en vertelt op de hem zo vertrouwde humoristische wijze over het thema van de boekenweek “moeder\, de vrouw”.\nHet boekenbal wordt georganiseerd door Bibliotheek Helmond-Peel. \nGaviolizaal\, Torenstraat 36A\, donderdag 28 maart van 14 uur tot 16 uur\nPrijs €5\,- inclusief een kopje koffie/thee en gebak
URL:https://aandachtvoorouderenhelmond.nl/evenement/boekenbal/
LOCATION:Gaviolizaal\, Torenstraat 36A\, Helmond\, Noord-Brabant\, 5701SH\, Nederland
ATTACH;FMTTYPE=image/jpeg:https://aandachtvoorouderenhelmond.nl/wp-content/uploads/2019/02/Gaviolizaal.jpg
END:VEVENT
END:VCALENDAR