BEGIN:VCALENDAR
VERSION:2.0
PRODID:-//Aandacht voor ouderen Helmond - ECPv6.15.17.1//NONSGML v1.0//EN
CALSCALE:GREGORIAN
METHOD:PUBLISH
X-ORIGINAL-URL:https://aandachtvoorouderenhelmond.nl
X-WR-CALDESC:Evenementen voor Aandacht voor ouderen Helmond
REFRESH-INTERVAL;VALUE=DURATION:PT1H
X-Robots-Tag:noindex
X-PUBLISHED-TTL:PT1H
BEGIN:VTIMEZONE
TZID:Europe/Amsterdam
BEGIN:DAYLIGHT
TZOFFSETFROM:+0100
TZOFFSETTO:+0200
TZNAME:CEST
DTSTART:20190331T010000
END:DAYLIGHT
BEGIN:STANDARD
TZOFFSETFROM:+0200
TZOFFSETTO:+0100
TZNAME:CET
DTSTART:20191027T010000
END:STANDARD
BEGIN:DAYLIGHT
TZOFFSETFROM:+0100
TZOFFSETTO:+0200
TZNAME:CEST
DTSTART:20200329T010000
END:DAYLIGHT
BEGIN:STANDARD
TZOFFSETFROM:+0200
TZOFFSETTO:+0100
TZNAME:CET
DTSTART:20201025T010000
END:STANDARD
BEGIN:DAYLIGHT
TZOFFSETFROM:+0100
TZOFFSETTO:+0200
TZNAME:CEST
DTSTART:20210328T010000
END:DAYLIGHT
BEGIN:STANDARD
TZOFFSETFROM:+0200
TZOFFSETTO:+0100
TZNAME:CET
DTSTART:20211031T010000
END:STANDARD
END:VTIMEZONE
BEGIN:VEVENT
DTSTART;TZID=Europe/Amsterdam:20200318T080000
DTEND;TZID=Europe/Amsterdam:20201130T170000
DTSTAMP:20260421T145727
CREATED:20200318T091833Z
LAST-MODIFIED:20201020T074336Z
UID:10000170-1584518400-1606755600@aandachtvoorouderenhelmond.nl
SUMMARY:De Corona Scheurkalender
DESCRIPTION:Het zijn barre tijden. We kunnen nu niet met culturele activiteiten naar ouderen toe\, we kunnen hen wel op een andere manier een klein hart onder de riem steken. Laten weten dat we aan ze denken en dat we er over een tijdje weer voor hen zullen zijn. Met een kruiswoordpuzzel\, fijne gedichtjes en spreuken\, een kleurplaat en woordzoeker. \nDownload hier gratis de Corona Scheurkalender om samen af te tellen naar het moment waarop bezoek (hopelijk) weer kan plaatsvinden.  Een leuk knutselwerkje voor de kids en een klein cadeautje voor de ouderen onder ons! \nDownloadlink: scheurkalender t/m 28 april 2020 \nDownloadlink: kalender vanaf 29 april 2020 t/m 31 mei 2020
URL:https://aandachtvoorouderenhelmond.nl/evenement/de-corona-scheurkalender/
ATTACH;FMTTYPE=image/jpeg:https://aandachtvoorouderenhelmond.nl/wp-content/uploads/2020/03/voorkant-scheurkalender-1-scaled.jpg
ORGANIZER;CN="Lang Leve Cultuur":MAILTO:info@langleve-cultuur.nl
END:VEVENT
END:VCALENDAR