BEGIN:VCALENDAR
VERSION:2.0
PRODID:-//Aandacht voor ouderen Helmond - ECPv6.15.17.1//NONSGML v1.0//EN
CALSCALE:GREGORIAN
METHOD:PUBLISH
X-WR-CALNAME:Aandacht voor ouderen Helmond
X-ORIGINAL-URL:https://aandachtvoorouderenhelmond.nl
X-WR-CALDESC:Evenementen voor Aandacht voor ouderen Helmond
REFRESH-INTERVAL;VALUE=DURATION:PT1H
X-Robots-Tag:noindex
X-PUBLISHED-TTL:PT1H
BEGIN:VTIMEZONE
TZID:Europe/Amsterdam
BEGIN:DAYLIGHT
TZOFFSETFROM:+0100
TZOFFSETTO:+0200
TZNAME:CEST
DTSTART:20190331T010000
END:DAYLIGHT
BEGIN:STANDARD
TZOFFSETFROM:+0200
TZOFFSETTO:+0100
TZNAME:CET
DTSTART:20191027T010000
END:STANDARD
BEGIN:DAYLIGHT
TZOFFSETFROM:+0100
TZOFFSETTO:+0200
TZNAME:CEST
DTSTART:20200329T010000
END:DAYLIGHT
BEGIN:STANDARD
TZOFFSETFROM:+0200
TZOFFSETTO:+0100
TZNAME:CET
DTSTART:20201025T010000
END:STANDARD
BEGIN:DAYLIGHT
TZOFFSETFROM:+0100
TZOFFSETTO:+0200
TZNAME:CEST
DTSTART:20210328T010000
END:DAYLIGHT
BEGIN:STANDARD
TZOFFSETFROM:+0200
TZOFFSETTO:+0100
TZNAME:CET
DTSTART:20211031T010000
END:STANDARD
END:VTIMEZONE
BEGIN:VEVENT
DTSTART;TZID=Europe/Amsterdam:20200407T120000
DTEND;TZID=Europe/Amsterdam:20200411T170000
DTSTAMP:20260419T144815
CREATED:20200120T132933Z
LAST-MODIFIED:20200120T132933Z
UID:10000154-1586260800-1586624400@aandachtvoorouderenhelmond.nl
SUMMARY:Museumbezoek: Week voor de Ouderen
DESCRIPTION:Museum Helmond gunt iedereen een plekje om al het moois op cultureel en kunstgebied te kunnen meemaken en aanschouwen. Vandaar dat we ieder jaar een week organiseren voor ouderen die minder mobiel zijn en minder gemakkelijk alleen op pad gaan. \n\n\nWe werken intussen aan een rijk\, interessant en leuk programma voor iedereen die in deze doelgroep valt. Zeer waarschijnlijk zit er een bezoek aan de grootste waterburcht van het land bij\, Kasteel Helmond\, en wie weet ook een mooie kennismaking met het bijzondere zestiende-eeuwse oevre van Lucas Gassel van Helmond (te zien vanaf 10 maart in Kunsthal Helmond). Maar wat het programma precies allemaal gaat bieden\, blijft nog even geheim.\n\n\n\n\n\n\n\nHoud deze site of die van het museum dan ook in de gaten. Want voor je het weet kun je al aanmelden!
URL:https://aandachtvoorouderenhelmond.nl/evenement/museumbezoek-week-voor-de-ouderen/
LOCATION:Museum Helmond
ATTACH;FMTTYPE=image/jpeg:https://aandachtvoorouderenhelmond.nl/wp-content/uploads/2019/02/Slider-LLC-museum-02.jpg
END:VEVENT
END:VCALENDAR